BEGIN:VCALENDAR
VERSION:2.0
PRODID:-//Christopher Street Day Augsburg e.V. - ECPv6.15.20//NONSGML v1.0//EN
CALSCALE:GREGORIAN
METHOD:PUBLISH
X-ORIGINAL-URL:https://www.csd-augsburg.de
X-WR-CALDESC:Veranstaltungen für Christopher Street Day Augsburg e.V.
REFRESH-INTERVAL;VALUE=DURATION:PT1H
X-Robots-Tag:noindex
X-PUBLISHED-TTL:PT1H
BEGIN:VTIMEZONE
TZID:Europe/Berlin
BEGIN:DAYLIGHT
TZOFFSETFROM:+0100
TZOFFSETTO:+0200
TZNAME:CEST
DTSTART:20240331T010000
END:DAYLIGHT
BEGIN:STANDARD
TZOFFSETFROM:+0200
TZOFFSETTO:+0100
TZNAME:CET
DTSTART:20241027T010000
END:STANDARD
BEGIN:DAYLIGHT
TZOFFSETFROM:+0100
TZOFFSETTO:+0200
TZNAME:CEST
DTSTART:20250330T010000
END:DAYLIGHT
BEGIN:STANDARD
TZOFFSETFROM:+0200
TZOFFSETTO:+0100
TZNAME:CET
DTSTART:20251026T010000
END:STANDARD
BEGIN:DAYLIGHT
TZOFFSETFROM:+0100
TZOFFSETTO:+0200
TZNAME:CEST
DTSTART:20260329T010000
END:DAYLIGHT
BEGIN:STANDARD
TZOFFSETFROM:+0200
TZOFFSETTO:+0100
TZNAME:CET
DTSTART:20261025T010000
END:STANDARD
END:VTIMEZONE
BEGIN:VEVENT
DTSTART;TZID=Europe/Berlin:20251211T180000
DTEND;TZID=Europe/Berlin:20251211T190000
DTSTAMP:20260421T222437
CREATED:20251211T081612Z
LAST-MODIFIED:20251211T081613Z
UID:5390-1765476000-1765479600@www.csd-augsburg.de
SUMMARY:Vortrag: SBGG in Augsburg
DESCRIPTION:Nach einem Jahr Selbstbestimmungsgesetz teilen wir Erfahrungen und erklären\, wie es funktioniert. \n\n\n\nEmma aus dem CSD-Verein berichtet von ihren eigenen Erfahrungen mit der Umsetzung in Augsburg\, wie das lief\, was es zu beachten gab und hat ein paar Tipps dabei. Wer selbst darüber nachdenkt\, vom SBGG Gebrauch zu machen und Fragen hat ist ebenso herzlich willkommen wie alle\, die es schon geschafft haben und ihre Erfahrungen austauschen und mit anderen teilen möchten.
URL:https://www.csd-augsburg.de/event/vortrag-sbgg-in-augsburg/
LOCATION:Queerfeministisches Popup-Zentrum\, Karolinenstraße 10\, Augsburg\, Bayern\, 86150\, Germany
CATEGORIES:Vortrag/Lesung
ORGANIZER;CN="CSD Augsburg":MAILTO:vorstand@csd-augsburg.de
END:VEVENT
BEGIN:VEVENT
DTSTART;TZID=Europe/Berlin:20251213T153000
DTEND;TZID=Europe/Berlin:20251213T180000
DTSTAMP:20260421T222437
CREATED:20251211T081910Z
LAST-MODIFIED:20251211T081911Z
UID:5394-1765639800-1765648800@www.csd-augsburg.de
SUMMARY:Workshop: Unser CSD 2026
DESCRIPTION:Wir wollen Einblick in unsere Arbeit geben\, den CSD in Augsburg zu organisieren. Wir möchten die Gelegenheit geben\, Ideen einzubringen. Komm vorbei\, erzähle uns von Deinen Erfahrungen und lerne die Community drum herum kennen!
URL:https://www.csd-augsburg.de/event/workshop-unser-csd-2026/
LOCATION:Queerfeministisches Popup-Zentrum\, Karolinenstraße 10\, Augsburg\, Bayern\, 86150\, Germany
CATEGORIES:Workshop
ORGANIZER;CN="CSD Augsburg":MAILTO:vorstand@csd-augsburg.de
END:VEVENT
BEGIN:VEVENT
DTSTART;TZID=Europe/Berlin:20251214T130000
DTEND;TZID=Europe/Berlin:20251214T180000
DTSTAMP:20260421T222437
CREATED:20251211T082204Z
LAST-MODIFIED:20251211T082205Z
UID:5396-1765717200-1765735200@www.csd-augsburg.de
SUMMARY:Kleidertausch
DESCRIPTION:Bring uns Deine aussortierte Kleidung on/oder such Dir kostenlos neue Kleidungsstücke aus. \n\n\n\nWir finden: Kleidung kennt kein Gender und Du allein bestimmst\, welche Größe für Dich gut ist! Sortiert wird deshalb nach Farbe und Art statt Geschlecht und Größe. \n\n\n\nBitte gib nur saubere Kleidung ab\, in einem Zustand\, in dem Du sie auch noch Freund*innen weiterschenken würdest. Beschädigtes und Kinderkleidung werden nicht angenommen. \n\n\n\nDie Abgabe von Kleidung ist an den Vortagen während Veranstaltungen möglich – oder am 14.12. noch bis 12 Uhr. Der Kleidertausch beginnt dann ab 13 Uhr.
URL:https://www.csd-augsburg.de/event/kleidertausch/
LOCATION:Queerfeministisches Popup-Zentrum\, Karolinenstraße 10\, Augsburg\, Bayern\, 86150\, Germany
CATEGORIES:Workshop
ORGANIZER;CN="CSD Augsburg":MAILTO:vorstand@csd-augsburg.de
END:VEVENT
BEGIN:VEVENT
DTSTART;TZID=Europe/Berlin:20251215T200000
DTEND;TZID=Europe/Berlin:20251215T223000
DTSTAMP:20260421T222437
CREATED:20251016T093746Z
LAST-MODIFIED:20251215T073752Z
UID:5378-1765828800-1765837800@www.csd-augsburg.de
SUMMARY:Stammtisch Dezember
DESCRIPTION:Bei unserem Stammtisch reden wir nicht von CSD-Planung und CSD-Organisation – versprochen! Es ist vielmehr eine Möglichkeit\, Menschen aus der queeren Community zu treffen. \n\n\n\nWenn Du nur ungern allein zu einer bestehenden Gruppe dazustößt\, sag uns bitte Bescheid und wir stellen dir jemanden an die Seite! \n\n\n\nWir treffen uns im Kaffeehaus Thalia im 1. OG – das ist beim Kino Thalia\, nicht beim Buchladen Thalia. Die nächste Haltestelle der Straßenbahn wäre Dom/Stadtwerke.
URL:https://www.csd-augsburg.de/event/stammtisch-dezember-2/
LOCATION:Kaffeehaus Thalia\, Obstmarkt 5\, Augsburg\, Bayern\, 86150\, Deutschland
CATEGORIES:Stammtisch
END:VEVENT
BEGIN:VEVENT
DTSTART;TZID=Europe/Berlin:20251216T173000
DTEND;TZID=Europe/Berlin:20251216T200000
DTSTAMP:20260421T222437
CREATED:20251211T090303Z
LAST-MODIFIED:20251211T090304Z
UID:5405-1765906200-1765915200@www.csd-augsburg.de
SUMMARY:Textil-Bastelabend
DESCRIPTION:Kreativangebot zum Gestalten und Werkeln mit Textilien im weitesten Sinne. Du kannst mit uns Stricken\, Häkeln\, Nähen und/ oder dich im Textildruck ausprobieren.
URL:https://www.csd-augsburg.de/event/textil-bastelabend/
LOCATION:Queerfeministisches Popup-Zentrum\, Karolinenstraße 10\, Augsburg\, Bayern\, 86150\, Germany
CATEGORIES:Workshop
ORGANIZER;CN="CSD Augsburg":MAILTO:vorstand@csd-augsburg.de
END:VEVENT
END:VCALENDAR