BEGIN:VCALENDAR
VERSION:2.0
PRODID:-//Christopher Street Day Augsburg e.V. - ECPv6.15.20//NONSGML v1.0//EN
CALSCALE:GREGORIAN
METHOD:PUBLISH
X-WR-CALNAME:Christopher Street Day Augsburg e.V.
X-ORIGINAL-URL:https://www.csd-augsburg.de
X-WR-CALDESC:Veranstaltungen für Christopher Street Day Augsburg e.V.
REFRESH-INTERVAL;VALUE=DURATION:PT1H
X-Robots-Tag:noindex
X-PUBLISHED-TTL:PT1H
BEGIN:VTIMEZONE
TZID:Europe/Berlin
BEGIN:DAYLIGHT
TZOFFSETFROM:+0100
TZOFFSETTO:+0200
TZNAME:CEST
DTSTART:20240331T010000
END:DAYLIGHT
BEGIN:STANDARD
TZOFFSETFROM:+0200
TZOFFSETTO:+0100
TZNAME:CET
DTSTART:20241027T010000
END:STANDARD
BEGIN:DAYLIGHT
TZOFFSETFROM:+0100
TZOFFSETTO:+0200
TZNAME:CEST
DTSTART:20250330T010000
END:DAYLIGHT
BEGIN:STANDARD
TZOFFSETFROM:+0200
TZOFFSETTO:+0100
TZNAME:CET
DTSTART:20251026T010000
END:STANDARD
BEGIN:DAYLIGHT
TZOFFSETFROM:+0100
TZOFFSETTO:+0200
TZNAME:CEST
DTSTART:20260329T010000
END:DAYLIGHT
BEGIN:STANDARD
TZOFFSETFROM:+0200
TZOFFSETTO:+0100
TZNAME:CET
DTSTART:20261025T010000
END:STANDARD
END:VTIMEZONE
BEGIN:VEVENT
DTSTART;TZID=Europe/Berlin:20250415T190000
DTEND;TZID=Europe/Berlin:20250415T213000
DTSTAMP:20260421T110258
CREATED:20250319T074839Z
LAST-MODIFIED:20250319T074843Z
UID:5108-1744743600-1744752600@www.csd-augsburg.de
SUMMARY:Stammtisch April
DESCRIPTION:Bei unserem Stammtisch reden wir nicht von CSD-Planung und CSD-Organisation – versprochen! Es ist vielmehr eine Möglichkeit\, Menschen aus der queeren Community zu treffen. \n\n\n\nWenn Du nur ungern allein zu einer bestehenden Gruppe dazustößt\, sag uns bitte Bescheid und wir stellen dir jemanden an die Seite! \n\n\n\nWir treffen uns im Kaffeehaus Thalia im 1. OG – das ist beim Kino Thalia\, nicht beim Buchladen Thalia. Die nächste Haltestelle der Straßenbahn wäre Dom/Stadtwerke.
URL:https://www.csd-augsburg.de/event/stammtisch-april/
LOCATION:Kaffeehaus Thalia\, Obstmarkt 5\, Augsburg\, Bayern\, 86150\, Deutschland
CATEGORIES:Stammtisch
END:VEVENT
BEGIN:VEVENT
DTSTART;TZID=Europe/Berlin:20250424T190000
DTEND;TZID=Europe/Berlin:20250424T213000
DTSTAMP:20260421T110258
CREATED:20250319T075017Z
LAST-MODIFIED:20250319T075018Z
UID:5111-1745521200-1745530200@www.csd-augsburg.de
SUMMARY:Planungstreffen April
DESCRIPTION:Wir planen den nächsten Christopher Street Day! Dafür haben wir verschiedene Arbeitsgruppen\, für alle Talente etwas. Wir freuen uns sehr\, wenn Du Dich beteiligen willst – komm einfach zum Treffen! Hast Du vorher Fragen\, schreib uns eine Mail an info@csd-augsburg.de oder bei Instagram: @csdaugsburg. Wenn Du nur ungern allein zu einer bestehenden Gruppe dazustößt\, sag uns bitte Bescheid und wir stellen dir jemanden an die Seite! \n\n\n\nProjektraum Rechts der Wertach\, Wolfgangstraße 2/Ecke Wertachstraße.Mit der Straßenbahn ist die Haltestelle Senkelbach am nächsten.
URL:https://www.csd-augsburg.de/event/planungstreffen-april-2/
LOCATION:Projektraum Rechts der Wertach\, Wolfgangstraße 2\, Augsburg\, Bayern\, 86153\, Deutschland
CATEGORIES:Organisation
END:VEVENT
END:VCALENDAR